BEGIN:VCALENDAR
VERSION:2.0
PRODID:-//wp-events-plugin.com//7.2.3.1//EN
TZID:Europe/Zurich
X-WR-TIMEZONE:Europe/Zurich
BEGIN:VEVENT
UID:610@picz.ch
DTSTART;TZID=Europe/Zurich:20250127T190000
DTEND;TZID=Europe/Zurich:20250127T220000
DTSTAMP:20250122T153621Z
URL:https://www.picz.ch/events/after-work-shoot-with-milla/
SUMMARY:After Work Shoot with Milla
DESCRIPTION:AWS with Milla\, Mon\, Jan 27\, 2025\, 7:00 PM | Meetup
ATTACH;FMTTYPE=image/jpeg:https://www.picz.ch/wp-content/uploads/2025/01/M
 illa2.jpg
CATEGORIES:Club meetings
LOCATION:PICZ Photostudio\, Limattalstrasse 184\, Zürich\, Switzerland
GEO:47.402283;8.49893
X-APPLE-STRUCTURED-LOCATION;VALUE=URI;X-ADDRESS=Limattalstrasse 184\, Züri
 ch\, Switzerland;X-APPLE-RADIUS=100;X-TITLE=PICZ Photostudio:geo:47.402283
 ,8.49893
END:VEVENT
BEGIN:VTIMEZONE
TZID:Europe/Zurich
X-LIC-LOCATION:Europe/Zurich
BEGIN:STANDARD
DTSTART:20241027T020000
TZOFFSETFROM:+0200
TZOFFSETTO:+0100
TZNAME:CET
END:STANDARD
END:VTIMEZONE
END:VCALENDAR