BEGIN:VCALENDAR
VERSION:2.0
PRODID:-//wp-events-plugin.com//7.2.3.1//EN
TZID:Europe/Zurich
X-WR-TIMEZONE:Europe/Zurich
BEGIN:VEVENT
UID:475@picz.ch
DTSTART;TZID=Europe/Zurich:20220829T190000
DTEND;TZID=Europe/Zurich:20220829T220000
DTSTAMP:20220725T062017Z
URL:https://www.picz.ch/events/aws-with-anna/
SUMMARY:AWS with Anna
DESCRIPTION:After Work Shoot with Anna\, Mon\, Aug 29\, 2022\, 7:00 PM | Me
 etup
ATTACH;FMTTYPE=image/jpeg:https://www.picz.ch/wp-content/uploads/2022/07/A
 nnaJ2.jpg
CATEGORIES:Outdoor Shoot,Studio
LOCATION:PICZ Photostudio\, Limattalstrasse 184\, Zürich\, Switzerland
GEO:47.402283;8.49893
X-APPLE-STRUCTURED-LOCATION;VALUE=URI;X-ADDRESS=Limattalstrasse 184\, Züri
 ch\, Switzerland;X-APPLE-RADIUS=100;X-TITLE=PICZ Photostudio:geo:47.402283
 ,8.49893
END:VEVENT
BEGIN:VTIMEZONE
TZID:Europe/Zurich
X-LIC-LOCATION:Europe/Zurich
BEGIN:DAYLIGHT
DTSTART:20220327T030000
TZOFFSETFROM:+0100
TZOFFSETTO:+0200
TZNAME:CEST
END:DAYLIGHT
END:VTIMEZONE
END:VCALENDAR