BEGIN:VCALENDAR
VERSION:2.0
PRODID:-//wp-events-plugin.com//7.2.3.1//EN
TZID:Europe/Zurich
X-WR-TIMEZONE:Europe/Zurich
BEGIN:VEVENT
UID:587@picz.ch
DTSTART;TZID=Europe/Zurich:20241006T130000
DTEND;TZID=Europe/Zurich:20241006T160000
DTSTAMP:20240918T203703Z
URL:https://www.picz.ch/events/hotel-room-shoot-with-janna/
SUMMARY:Hotel room shoot with Janna
DESCRIPTION:During this workshop we will shoot with the beautiful Janna (@j
 anna_evstafeva) in a hotel room of the Placid hotel in Zurich.\nThe idea i
 s to shoot with ambient light but we will also have artificial light avail
 able if necessary.\nPrice: 130CHF\nBecause we have both a model and hotel 
 room to pay for we may ask you to pay if you cancel and we don't have full
  attendance.\nRegistration on MeetUp\n\n&nbsp\;\n\nLocation: Hotel Placid
 \, Buckhauserstrasse 36\, 8048 Zürich-Altstetten
ATTACH;FMTTYPE=image/jpeg:https://www.picz.ch/wp-content/uploads/2024/09/W
 hatsApp-Image-2024-09-17-at-23.21.08.jpeg
CATEGORIES:Club meetings
LOCATION:Hotel Placid\, Buckhauserstrasse 36\, Zürich-Altstetten\, 8048\, 
 Switzerland
X-APPLE-STRUCTURED-LOCATION;VALUE=URI;X-ADDRESS=Buckhauserstrasse 36\, Zür
 ich-Altstetten\, 8048\, Switzerland;X-APPLE-RADIUS=100;X-TITLE=Hotel Placi
 d:geo:0,0
END:VEVENT
BEGIN:VTIMEZONE
TZID:Europe/Zurich
X-LIC-LOCATION:Europe/Zurich
BEGIN:DAYLIGHT
DTSTART:20240331T030000
TZOFFSETFROM:+0100
TZOFFSETTO:+0200
TZNAME:CEST
END:DAYLIGHT
END:VTIMEZONE
END:VCALENDAR