BEGIN:VCALENDAR
VERSION:2.0
PRODID:-//wp-events-plugin.com//7.2.3.1//EN
TZID:Europe/Zurich
X-WR-TIMEZONE:Europe/Zurich
BEGIN:VEVENT
UID:667@picz.ch
DTSTART;TZID=Europe/Zurich:20260503T100000
DTEND;TZID=Europe/Zurich:20260503T160000
DTSTAMP:20260307T123115Z
URL:https://www.picz.ch/events/photography-at-gp-mutschellen/
SUMMARY:Photography at GP Mutschellen
DESCRIPTION:Join us for a day of photographing a variety of racing cars and
  motorbikes at this hillclimb event at Mutschellen (between Dietikon and B
 remgarten).\nAlthough competitive racing (and specifically overtaking) are
  not allowed in Switzerland\, there are occasionally some opportunities to
  see some racing cars and this is one. There is a paddock at the bottom wh
 ere the cars and bikes are prepared and set off in groups up the hill. You
  can stand in various locations along the route. There are usually some st
 ands selling food and drinks.\nTickets: CHF20 per person\, payable to the 
 event organisers (not PICZ!) on arrival. If coming by car\, parking is a
 n additional CHF7.\n**if this Meetup event is full\, of course you can com
 e as a private individual\, it may be difficult for more than about 10 mem
 bers of the club to meet up and stay loosely together!**\nYou will need:\n
 \n\n 	Your camera (preferably with good predictive autofocus)\n 	A variety
  of lenses\, from standard or even wide angle for the paddock\, to telepho
 to to follow the cars and bikes up the hill.\n 	Advisable to bring at leas
 t something to drink\, you may wish to bring your own lunch too.\n 	Suitab
 le shoes for walking/hiking\, there are paths and also grassy fields\, the
 re may be some mud.\n 	Clothes: the weather can be variable at this time o
 f year\, could be anything from rain to strong sunshine or a mix of both!\
 n\nMeeting up:\nI suggest we try to meet close to the paddock (before the 
 start line) in the morning\, although this can be noisy when the engines a
 re started. I will create a WhatsApp group for participants.\nGetting ther
 e:\n\n\n 	By car\, there are temporary car parks in the fields typically o
 n the north end of the site. Look for Bahnhof Rudolfstetten on your SatNav
  and then follow the signs to the car parks.\n 	By public transport\, trav
 el to Bahnhof Rudolfstetten near Berikon &amp\; Widen\, for example from Z
 ürich HB\, zou could take the S12 towards Brugg at 09:14\, followed by he
  S17 at Dietikon at 09:33 to Rudolfstetten.\n 	Please be aware this will b
 e a very busy public event and you may need to queue to buy tickets to get
  in\, so allow time to arrive and meet the group.\n\nMore information abou
 t the event itself here: https://gpmutschellen.ch/\nLink to register: htt
 ps://www.meetup.com/the-zurich-photography-meetup-group/events/313679795
ATTACH;FMTTYPE=image/jpeg:https://www.picz.ch/wp-content/uploads/2026/03/I
 MG_6666.jpg
CATEGORIES:Club meetings
LOCATION:GP Mutschellen\, Bahnhof Rudolfstetten\, Rudolfstetten-Friedlisber
 g\, Aargau\, 8964\, Switzerland
X-APPLE-STRUCTURED-LOCATION;VALUE=URI;X-ADDRESS=Bahnhof Rudolfstetten\, Rud
 olfstetten-Friedlisberg\, Aargau\, 8964\, Switzerland;X-APPLE-RADIUS=100;X
 -TITLE=GP Mutschellen:geo:0,0
END:VEVENT
BEGIN:VTIMEZONE
TZID:Europe/Zurich
X-LIC-LOCATION:Europe/Zurich
BEGIN:DAYLIGHT
DTSTART:20260329T030000
TZOFFSETFROM:+0100
TZOFFSETTO:+0200
TZNAME:CEST
END:DAYLIGHT
END:VTIMEZONE
END:VCALENDAR