BEGIN:VCALENDAR
VERSION:2.0
PRODID:-//wp-events-plugin.com//7.2.3.1//EN
TZID:Europe/Zurich
X-WR-TIMEZONE:Europe/Zurich
BEGIN:VEVENT
UID:680@picz.ch
DTSTART;TZID=Europe/Zurich:20260523T170000
DTEND;TZID=Europe/Zurich:20260523T200000
DTSTAMP:20260421T213356Z
URL:https://www.picz.ch/events/street-photography-workshop/
SUMMARY:Street Photography workshop
DESCRIPTION:Join us for a street photography workshop along Zurich’s vibr
 ant lakefront and riverside\, ending in the winding alleys of the old city
 .\nParticipants of the workshop will have a particular street photography 
 mission (assignment)\, starting first as a group and then splitting into s
 eparate teams.\nWe're meeting in front of the Opera House – facing Sechs
 eläutenplatz\nIf you would like to join the workshop\, please add yoursel
 f to the waitlist!\nThe organizer of the workshop will move the participan
 ts to "Going"!\n&nbsp\;\n\nRegistration on MeetUp
ATTACH;FMTTYPE=image/jpeg:https://www.picz.ch/wp-content/uploads/2026/04/h
 ighres_533662056.jpeg
CATEGORIES:Club meetings
LOCATION:Opera House\, Falkenstrasse 1\, Zurich\, 8008\, Switzerland
X-APPLE-STRUCTURED-LOCATION;VALUE=URI;X-ADDRESS=Falkenstrasse 1\, Zurich\, 
 8008\, Switzerland;X-APPLE-RADIUS=100;X-TITLE=Opera House:geo:0,0
END:VEVENT
BEGIN:VTIMEZONE
TZID:Europe/Zurich
X-LIC-LOCATION:Europe/Zurich
BEGIN:DAYLIGHT
DTSTART:20260329T030000
TZOFFSETFROM:+0100
TZOFFSETTO:+0200
TZNAME:CEST
END:DAYLIGHT
END:VTIMEZONE
END:VCALENDAR