BEGIN:VCALENDAR
VERSION:2.0
PRODID:-//wp-events-plugin.com//7.2.3.1//EN
TZID:Europe/Zurich
X-WR-TIMEZONE:Europe/Zurich
BEGIN:VEVENT
UID:313@picz.ch
DTSTART;TZID=Europe/Zurich:20200920T100000
DTEND;TZID=Europe/Zurich:20200920T130000
DTSTAMP:20200831T183201Z
URL:https://www.picz.ch/events/studio-gear-explanation-workshop-take-your-
 first-steps-shooting-in-a-studio/
SUMMARY:Studio gear explanation workshop - Take your first steps shooting i
 n a studio
DESCRIPTION:Studio gear explanation workshop. More details on meetup.com\n\
 nhttps://www.meetup.com/The-Zurich-Photography-Meetup-Group/events/2728655
 52/
LOCATION:The PICZ Studio\, Limmattalstrasse 184\, Zurich\, 8049\, Switzerla
 nd
GEO:47.402283;8.498930
X-APPLE-STRUCTURED-LOCATION;VALUE=URI;X-ADDRESS=Limmattalstrasse 184\, Zuri
 ch\, 8049\, Switzerland;X-APPLE-RADIUS=100;X-TITLE=The PICZ Studio:geo:47.
 402283,8.498930
END:VEVENT
BEGIN:VTIMEZONE
TZID:Europe/Zurich
X-LIC-LOCATION:Europe/Zurich
BEGIN:DAYLIGHT
DTSTART:20200329T030000
TZOFFSETFROM:+0100
TZOFFSETTO:+0200
TZNAME:CEST
END:DAYLIGHT
END:VTIMEZONE
END:VCALENDAR